BEGIN:VCALENDAR
VERSION:2.0
PRODID:DPCALENDAR
CALSCALE:GREGORIAN
BEGIN:VTIMEZONE
TZID:Europe/London
X-MICROSOFT-CDO-TZID:1
BEGIN:STANDARD
DTSTART:20251026T010000
TZOFFSETFROM:+0100
TZOFFSETTO:+0000
TZNAME:GMT
END:STANDARD
BEGIN:STANDARD
DTSTART:20261025T010000
TZOFFSETFROM:+0100
TZOFFSETTO:+0000
TZNAME:GMT
END:STANDARD
BEGIN:DAYLIGHT
DTSTART:20260329T010000
TZOFFSETFROM:+0000
TZOFFSETTO:+0100
TZNAME:BST
END:DAYLIGHT
END:VTIMEZONE
X-WR-TIMEZONE:Europe/London
BEGIN:VEVENT
DTSTART;TZID=Europe/London:20230224T140000
DTEND;TZID=Europe/London:20230224T150000
UID:05939E73-4890-4493-802C-2DF996FBDFEA
SUMMARY:Tasting Session - Rotary Club, Leeds
CREATED:20230217T150005Z
DTSTAMP:20230217T150005Z
URL:https://ipv6.thewhiskyprotagonist.co.uk/component/dpcalendar/event/1?calid=10
LAST-MODIFIED:20230217T164829Z
SEQUENCE:6504
LOCATION:
GEO:52.33110890;-0.56752900
X-LOCATION-DISPLAYNAME:United Kingdom, England, North Northamptonshire, Raunds, NN9 6QQ
X-ACCESS:1
X-HITS:51
X-COLOR:cc3333
X-SHOW-END-TIME:1
END:VEVENT
BEGIN:VEVENT
DTSTART;TZID=Europe/London:20230228T190000
DTEND;TZID=Europe/London:20230228T220000
UID:CF140802-8FFA-4422-B985-1DC7E782BC04
SUMMARY:Open Day at the Races
CREATED:20230217T152504Z
DTSTAMP:20230217T152504Z
URL:https://ipv6.thewhiskyprotagonist.co.uk/component/dpcalendar/event/2?calid=10
LAST-MODIFIED:20230217T152515Z
SEQUENCE:11
X-ACCESS:1
X-HITS:48
X-COLOR:cc3333
X-SHOW-END-TIME:0
END:VEVENT
BEGIN:VEVENT
DTSTART;VALUE=DATE:20230430
DTEND;VALUE=DATE:20230509
UID:3C00AC2E-6195-40EA-8A6B-60225C29B5ED
SUMMARY:Cruise Speaker, Regal Princess
CREATED:20230411T155554Z
DTSTAMP:20230411T155554Z
URL:https://ipv6.thewhiskyprotagonist.co.uk/component/dpcalendar/event/3?calid=10
X-ACCESS:1
X-HITS:48
X-COLOR:cc3333
X-SHOW-END-TIME:1
END:VEVENT
BEGIN:VEVENT
DTSTART;VALUE=DATE:20230520
DTEND;VALUE=DATE:20230603
UID:6B21AC69-6DAF-4C47-B207-FC9B031A42BA
SUMMARY:Cruise Speaker, Regal Princess
CREATED:20230411T155554Z
DTSTAMP:20230411T155554Z
URL:https://ipv6.thewhiskyprotagonist.co.uk/component/dpcalendar/event/4?calid=10
LAST-MODIFIED:20230411T155614Z
SEQUENCE:20
X-ACCESS:1
X-HITS:51
X-COLOR:cc3333
X-SHOW-END-TIME:1
END:VEVENT
BEGIN:VEVENT
DTSTART;TZID=Europe/London:20230929T190000
DTEND;TZID=Europe/London:20230929T220000
UID:C1703BEA-88D1-45BD-BE54-509108015ADD
SUMMARY:Doncaster Golf Club Scotch Islands Whisky Tasting
CREATED:20230421T144252Z
DTSTAMP:20230421T144252Z
URL:https://ipv6.thewhiskyprotagonist.co.uk/component/dpcalendar/event/6?calid=10
LOCATION:
GEO:52.33110890;-0.56752900
X-LOCATION-DISPLAYNAME:United Kingdom, England, North Northamptonshire, Raunds, NN9 6QQ
X-ACCESS:1
X-HITS:78
X-COLOR:cc3333
X-SHOW-END-TIME:1
END:VEVENT
BEGIN:VEVENT
DTSTART;TZID=Europe/London:20231007T150000
DTEND;TZID=Europe/London:20231014T100000
UID:064C59FA-8132-49B0-A5BC-AB855E78D407
SUMMARY:Iona Cruise Ship Speaker
CREATED:20230802T144742Z
DTSTAMP:20230802T144742Z
URL:https://ipv6.thewhiskyprotagonist.co.uk/component/dpcalendar/event/7?calid=10
X-ACCESS:1
X-HITS:66
X-COLOR:cc3333
X-SHOW-END-TIME:1
END:VEVENT
BEGIN:VEVENT
DTSTART;VALUE=DATE:20231016
DTEND;VALUE=DATE:20231017
UID:A22E216C-B790-4135-A9C8-3F739A086041
SUMMARY:Doncaster Magistrates Dinner, Gin : A Bottled History
CREATED:20230411T155554Z
DTSTAMP:20230411T155554Z
URL:https://ipv6.thewhiskyprotagonist.co.uk/component/dpcalendar/event/5?calid=10
LAST-MODIFIED:20230411T155746Z
SEQUENCE:112
X-ACCESS:1
X-HITS:85
X-COLOR:cc3333
X-SHOW-END-TIME:1
END:VEVENT
BEGIN:VEVENT
DTSTART;TZID=Europe/London:20231117T120000
DTEND;TZID=Europe/London:20231124T080000
UID:9D9DF6A3-1ACB-448F-8616-CEB68FA0C234
SUMMARY:Ventura Cruise Ship Speaker
CREATED:20230914T112403Z
DTSTAMP:20230914T112403Z
URL:https://ipv6.thewhiskyprotagonist.co.uk/component/dpcalendar/event/8?calid=10
X-ACCESS:1
X-HITS:53
X-COLOR:cc3333
X-SHOW-END-TIME:1
END:VEVENT
BEGIN:VEVENT
DTSTART;TZID=Europe/London:20231118T193000
DTEND;TZID=Europe/London:20231118T213000
UID:43BD2D6D-96FD-40A1-AC44-B28240DF0ED3
SUMMARY:Doncaster Magistrates Dinner, Gin : A Bottled History
CREATED:20230411T145554Z
DTSTAMP:20230411T145554Z
URL:https://ipv6.thewhiskyprotagonist.co.uk/component/dpcalendar/event/12?calid=10
LAST-MODIFIED:20230411T145746Z
SEQUENCE:112
X-ACCESS:1
X-HITS:46
X-COLOR:cc3333
X-SHOW-END-TIME:1
END:VEVENT
BEGIN:VEVENT
DTSTART;TZID=Europe/London:20231118T193000
DTEND;TZID=Europe/London:20231118T213000
UID:F191D008-81B4-4E67-A5F0-AB6D49E20848
SUMMARY:Doncaster Magistrates Dinner, Gin : A Bottled History
CREATED:20230411T135554Z
DTSTAMP:20230411T135554Z
URL:https://ipv6.thewhiskyprotagonist.co.uk/component/dpcalendar/event/14?calid=10
LAST-MODIFIED:20230411T135746Z
SEQUENCE:112
X-ACCESS:1
X-HITS:47
X-COLOR:cc3333
X-SHOW-END-TIME:1
END:VEVENT
BEGIN:VEVENT
DTSTART;TZID=Europe/London:20240412T190000
DTEND;TZID=Europe/London:20240412T220000
UID:A311CD2A-8493-47EC-8893-C500F29742C0
SUMMARY:Premium Scotch Whisky Tasting, Doncaster Golf Club
CREATED:20240216T144325Z
DTSTAMP:20240216T144325Z
URL:https://ipv6.thewhiskyprotagonist.co.uk/component/dpcalendar/event/13?calid=10
X-ACCESS:1
X-HITS:104
X-COLOR:cc3333
X-SHOW-END-TIME:1
END:VEVENT
BEGIN:VEVENT
DTSTART;VALUE=DATE:20240421
DTEND;VALUE=DATE:20240504
UID:009B1400-AABB-4CA1-925E-F9A5104ED917
SUMMARY:Regal Princess Cruise Ship Speaker
CREATED:20240216T143633Z
DTSTAMP:20240216T143633Z
URL:https://ipv6.thewhiskyprotagonist.co.uk/component/dpcalendar/event/11?calid=10
LAST-MODIFIED:20240216T144018Z
SEQUENCE:225
X-ACCESS:1
X-HITS:119
X-COLOR:cc3333
X-SHOW-END-TIME:1
END:VEVENT
BEGIN:VEVENT
DTSTART;VALUE=DATE:20240508
DTEND;VALUE=DATE:20240521
UID:0601B830-CC70-4296-86ED-CF58AD12E871
SUMMARY:Balmoral Cruise Ship Speaker
CREATED:20231023T141846Z
DTSTAMP:20231023T141846Z
URL:https://ipv6.thewhiskyprotagonist.co.uk/component/dpcalendar/event/9?calid=10
LAST-MODIFIED:20240216T144047Z
SEQUENCE:10023721
X-ACCESS:1
X-HITS:329
X-COLOR:cc3333
X-SHOW-END-TIME:1
END:VEVENT
BEGIN:VEVENT
DTSTART;VALUE=DATE:20240602
DTEND;VALUE=DATE:20240620
UID:949005D2-2257-40A1-A089-B17D54B43251
SUMMARY:Borealis Cruise Ship Speaker
CREATED:20240216T143520Z
DTSTAMP:20240216T143520Z
URL:https://ipv6.thewhiskyprotagonist.co.uk/component/dpcalendar/event/10?calid=10
LAST-MODIFIED:20240216T143534Z
SEQUENCE:14
X-ACCESS:1
X-HITS:135
X-COLOR:cc3333
X-SHOW-END-TIME:1
END:VEVENT
BEGIN:VEVENT
DTSTART;TZID=Europe/London:20240630T140000
DTEND;TZID=Europe/London:20240714T070000
UID:4B16DBF9-1678-4C17-9FE8-613738E011DE
SUMMARY:Ambience Cruise Ship Speaker
CREATED:20240529T080627Z
DTSTAMP:20240529T080627Z
URL:https://ipv6.thewhiskyprotagonist.co.uk/component/dpcalendar/event/17?calid=10
LAST-MODIFIED:20240619T225509Z
SEQUENCE:1867722
X-ACCESS:1
X-HITS:141
X-COLOR:cc3333
X-SHOW-END-TIME:1
END:VEVENT
BEGIN:VEVENT
DTSTART;TZID=Europe/London:20240828T140000
DTEND;TZID=Europe/London:20240909T070000
UID:A1186DBB-74C7-4FFB-AF30-9D485C4F98EF
SUMMARY:Ambition Cruise Ship Speaker
CREATED:20240619T225148Z
DTSTAMP:20240619T225148Z
URL:https://ipv6.thewhiskyprotagonist.co.uk/component/dpcalendar/event/18?calid=10
LAST-MODIFIED:20240619T225152Z
SEQUENCE:4
X-ACCESS:1
X-HITS:82
X-COLOR:cc3333
X-SHOW-END-TIME:1
END:VEVENT
BEGIN:VEVENT
DTSTART;TZID=Europe/London:20240914T160000
DTEND;TZID=Europe/London:20240926T080000
UID:B37AB2DA-9979-4B71-A8F4-7B90B5572190
SUMMARY:Ambience Cruise Ship Speaker
CREATED:20240625T143809Z
DTSTAMP:20240625T143809Z
URL:https://ipv6.thewhiskyprotagonist.co.uk/component/dpcalendar/event/19?calid=10
LAST-MODIFIED:20240625T144310Z
SEQUENCE:301
X-ACCESS:1
X-HITS:92
X-COLOR:cc3333
X-SHOW-END-TIME:1
END:VEVENT
BEGIN:VEVENT
DTSTART;TZID=Europe/London:20241024T103000
DTEND;TZID=Europe/London:20241024T113000
UID:6365E83C-EF25-47D0-BE50-BE5ED71E6CE2
SUMMARY:Bawtry & Tickhill Probus Club, Scotch Whisky: A Bottled History
CREATED:20240410T132701Z
DTSTAMP:20240410T132701Z
URL:https://ipv6.thewhiskyprotagonist.co.uk/component/dpcalendar/event/15?calid=10
LAST-MODIFIED:20240410T134036Z
SEQUENCE:815
X-ACCESS:1
X-HITS:156
X-COLOR:cc3333
X-SHOW-END-TIME:1
END:VEVENT
BEGIN:VEVENT
DTSTART;TZID=Europe/London:20241101T190000
DTEND;TZID=Europe/London:20241101T213000
UID:2F9B0B60-3705-4D69-8BCF-572917FABE63
SUMMARY:Mystery Whisky Tasting, Doncaster Golf Club
CREATED:20240419T085958Z
DTSTAMP:20240419T085958Z
URL:https://ipv6.thewhiskyprotagonist.co.uk/component/dpcalendar/event/16?calid=10
X-ACCESS:1
X-HITS:114
X-COLOR:cc3333
X-SHOW-END-TIME:1
END:VEVENT
BEGIN:VEVENT
DTSTART;TZID=Europe/London:20241118T190000
DTEND;TZID=Europe/London:20241118T210000
UID:1AD3AB50-60D0-4CD3-B3CD-FE590D7043EF
SUMMARY:Doncaster Magistrates Group: Gin, A Bottled History
CREATED:20241108T125659Z
DTSTAMP:20241108T125659Z
URL:https://ipv6.thewhiskyprotagonist.co.uk/component/dpcalendar/event/23?calid=10
LAST-MODIFIED:20241108T125659Z
SEQUENCE:0
X-ACCESS:1
X-HITS:32
X-COLOR:cc3333
X-SHOW-END-TIME:1
END:VEVENT
BEGIN:VEVENT
DTSTART;TZID=Europe/London:20250123T193000
DTEND;TZID=Europe/London:20250123T220000
UID:2250FEA9-FC3B-43D0-85AE-05008566414A
SUMMARY:Scotch Whisky Tasting, The Bees Knees, Laneham, Nottinghamshire
CREATED:20250107T232340Z
DTSTAMP:20250107T232340Z
URL:https://ipv6.thewhiskyprotagonist.co.uk/component/dpcalendar/event/24?calid=10
LAST-MODIFIED:20250107T232345Z
SEQUENCE:5
X-ACCESS:1
X-HITS:56
X-COLOR:cc3333
X-SHOW-END-TIME:1
END:VEVENT
BEGIN:VEVENT
DTSTART;TZID=Europe/London:20250126T130000
DTEND;TZID=Europe/London:20250126T160000
UID:C9D93ADA-4BE3-460E-976E-498DF315C0A5
SUMMARY:Burns Lunch Whisky Tasting, Doncaster Golf Club
CREATED:20250115T221713Z
DTSTAMP:20250115T221713Z
URL:https://ipv6.thewhiskyprotagonist.co.uk/component/dpcalendar/event/25?calid=10
LAST-MODIFIED:20250115T221713Z
SEQUENCE:0
X-ACCESS:1
X-HITS:65
X-COLOR:cc3333
X-SHOW-END-TIME:1
END:VEVENT
BEGIN:VEVENT
DTSTART;TZID=Europe/London:20250304T120000
DTEND;TZID=Europe/London:20250304T130000
UID:3E5ED776-98E6-4B85-BF17-D4B6C2699C0B
SUMMARY:Danbury Wine Circle,  Scotch Whisky:A Bottled History
CREATED:20240930T152745Z
DTSTAMP:20240930T152745Z
URL:https://ipv6.thewhiskyprotagonist.co.uk/component/dpcalendar/event/20?calid=10
LAST-MODIFIED:20240930T152844Z
SEQUENCE:59
X-ACCESS:1
X-HITS:143
X-COLOR:cc3333
X-SHOW-END-TIME:1
END:VEVENT
BEGIN:VEVENT
DTSTART;TZID=Europe/London:20250404T170000
DTEND;TZID=Europe/London:20250417T070000
UID:661DFC74-269E-446E-9D57-F1B37842AF08
SUMMARY:Borealis Cruise Ship Speaker
CREATED:20241108T125442Z
DTSTAMP:20241108T125442Z
URL:https://ipv6.thewhiskyprotagonist.co.uk/component/dpcalendar/event/22?calid=10
LAST-MODIFIED:20241108T125442Z
SEQUENCE:0
X-ACCESS:1
X-HITS:104
X-COLOR:cc3333
X-SHOW-END-TIME:1
END:VEVENT
BEGIN:VEVENT
DTSTART;TZID=Europe/London:20250502T190000
DTEND;TZID=Europe/London:20250502T220000
UID:C1F68E4D-B57C-4FD0-804E-ACC96AF917DD
SUMMARY:Scotch Whisky Cask Finish Tasting, Doncaster Golf Club
CREATED:20250206T150254Z
DTSTAMP:20250206T150254Z
URL:https://ipv6.thewhiskyprotagonist.co.uk/component/dpcalendar/event/26?calid=10
LAST-MODIFIED:20250206T150259Z
SEQUENCE:5
X-ACCESS:1
X-HITS:239
X-COLOR:cc3333
X-SHOW-END-TIME:1
END:VEVENT
BEGIN:VEVENT
DTSTART;TZID=Europe/London:20250521T150000
DTEND;TZID=Europe/London:20250525T120000
UID:1CE17047-5663-463D-A2C9-FA7F6FCB5D04
SUMMARY:Cruise Ship Speaker, Regal Princess
CREATED:20250518T115924Z
DTSTAMP:20250518T115924Z
URL:https://ipv6.thewhiskyprotagonist.co.uk/component/dpcalendar/event/31?calid=10
LAST-MODIFIED:20250518T115927Z
SEQUENCE:3
X-ACCESS:1
X-HITS:21
X-COLOR:cc3333
X-SHOW-END-TIME:1
END:VEVENT
BEGIN:VEVENT
DTSTART;TZID=Europe/London:20250720T120000
DTEND;TZID=Europe/London:20250802T080000
UID:B0CB0CC6-6274-4AD9-84E2-13F3C2D2A1F5
SUMMARY:Cruise Ship Speaker, Balmoral
CREATED:20250514T113702Z
DTSTAMP:20250514T113702Z
URL:https://ipv6.thewhiskyprotagonist.co.uk/component/dpcalendar/event/30?calid=10
LAST-MODIFIED:20250514T113702Z
SEQUENCE:0
X-ACCESS:1
X-HITS:88
X-COLOR:cc3333
X-SHOW-END-TIME:1
END:VEVENT
BEGIN:VEVENT
DTSTART;TZID=Europe/London:20250828T140000
DTEND;TZID=Europe/London:20250908T090000
UID:16796C01-37C4-46AC-8CAA-EAEBD679ABDA
SUMMARY:Cruise Ship Speaker, Balmoral
CREATED:20250512T200550Z
DTSTAMP:20250512T200550Z
URL:https://ipv6.thewhiskyprotagonist.co.uk/component/dpcalendar/event/28?calid=10
LAST-MODIFIED:20250512T200557Z
SEQUENCE:7
X-ACCESS:1
X-HITS:139
X-COLOR:cc3333
X-SHOW-END-TIME:1
END:VEVENT
BEGIN:VEVENT
DTSTART;TZID=Europe/London:20251112T190000
DTEND;TZID=Europe/London:20251112T210000
UID:15670E3A-D850-4DD9-BA2A-4E59582E3042
SUMMARY:Doncaster Supper Club, Scotch Whisky: A Bottled History
CREATED:20240930T152955Z
DTSTAMP:20240930T152955Z
URL:https://ipv6.thewhiskyprotagonist.co.uk/component/dpcalendar/event/21?calid=10
LAST-MODIFIED:20240930T152955Z
SEQUENCE:0
X-ACCESS:1
X-HITS:404
X-COLOR:cc3333
X-SHOW-END-TIME:1
END:VEVENT
BEGIN:VEVENT
DTSTART;TZID=Europe/London:20251121T190000
DTEND;TZID=Europe/London:20251121T220000
UID:13A55875-6B7D-4FDD-B5F0-8E8385236E14
SUMMARY:Doncaster Golf Club, Japanese Whisky Tasting
CREATED:20250512T200651Z
DTSTAMP:20250512T200651Z
URL:https://ipv6.thewhiskyprotagonist.co.uk/component/dpcalendar/event/29?calid=10
LAST-MODIFIED:20250512T200656Z
SEQUENCE:5
X-ACCESS:1
X-HITS:169
X-COLOR:cc3333
X-SHOW-END-TIME:1
END:VEVENT
BEGIN:VEVENT
DTSTART;TZID=Europe/London:20251214T110000
DTEND;TZID=Europe/London:20260104T090000
UID:40D240CC-702C-46D5-9557-34BFD3B6E20C
SUMMARY:Cruise Ship Speaker, Azamara Pursuit
CREATED:20251020T100129Z
DTSTAMP:20251020T100129Z
URL:https://ipv6.thewhiskyprotagonist.co.uk/component/dpcalendar/event/38?calid=10
LAST-MODIFIED:20251020T100129Z
SEQUENCE:0
X-ACCESS:1
X-HITS:83
X-COLOR:cc3333
X-SHOW-END-TIME:1
END:VEVENT
BEGIN:VEVENT
DTSTART;TZID=Europe/London:20260125T130000
DTEND;TZID=Europe/London:20260125T170000
UID:80116A93-FCEF-4AC9-A90B-EE730DCF3AC6
SUMMARY:Burns Lunch Celebration Scotch Whisky Tasting, Doncaster Golf Club
CREATED:20260108T124304Z
DTSTAMP:20260108T124304Z
URL:https://ipv6.thewhiskyprotagonist.co.uk/component/dpcalendar/event/40?calid=10
LAST-MODIFIED:20260108T124307Z
SEQUENCE:3
X-ACCESS:1
X-HITS:40
X-COLOR:cc3333
X-SHOW-END-TIME:1
END:VEVENT
BEGIN:VEVENT
DTSTART;TZID=Europe/London:20260228T090000
DTEND;TZID=Europe/London:20260312T170000
UID:774649AA-8105-4A0F-9229-1B5C6BE5ABF7
SUMMARY:Cruise Ship Speaker, Discovery Princess
CREATED:20250813T101403Z
DTSTAMP:20250813T101403Z
URL:https://ipv6.thewhiskyprotagonist.co.uk/component/dpcalendar/event/36?calid=10
LAST-MODIFIED:20250813T101410Z
SEQUENCE:7
X-ACCESS:1
X-HITS:248
X-COLOR:cc3333
X-SHOW-END-TIME:1
END:VEVENT
BEGIN:VEVENT
DTSTART;VALUE=DATE:20260414
DTEND;VALUE=DATE:20260423
UID:C2B76088-0A1E-49F3-9826-EDC39B5812B4
SUMMARY:Cruise Ship Speaker, Borealis
CREATED:20250409T113135Z
DTSTAMP:20250409T113135Z
URL:https://ipv6.thewhiskyprotagonist.co.uk/component/dpcalendar/event/27?calid=10
LAST-MODIFIED:20250409T113148Z
SEQUENCE:13
X-ACCESS:1
X-HITS:284
X-COLOR:cc3333
X-SHOW-END-TIME:1
END:VEVENT
BEGIN:VEVENT
DTSTART;TZID=Europe/London:20260426T120000
DTEND;TZID=Europe/London:20260510T130000
UID:FC7E4A11-B587-4511-91F1-8668840C968F
SUMMARY:Cruise Ship Speaker, Scarlet Lady
CREATED:20260110T110508Z
DTSTAMP:20260110T110508Z
URL:https://ipv6.thewhiskyprotagonist.co.uk/component/dpcalendar/event/41?calid=10
LAST-MODIFIED:20260110T110549Z
SEQUENCE:41
X-ACCESS:1
X-HITS:147
X-COLOR:cc3333
X-SHOW-END-TIME:1
END:VEVENT
BEGIN:VEVENT
DTSTART;TZID=Europe/London:20260606T130000
DTEND;TZID=Europe/London:20260620T090000
UID:9D8B1359-F142-47A7-8E45-7BDE2A1627A6
SUMMARY:Cruise Ship Speaker, Bolette
CREATED:20250628T125100Z
DTSTAMP:20250628T125100Z
URL:https://ipv6.thewhiskyprotagonist.co.uk/component/dpcalendar/event/32?calid=10
LAST-MODIFIED:20250628T125128Z
SEQUENCE:28
X-ACCESS:1
X-HITS:262
X-COLOR:cc3333
X-SHOW-END-TIME:1
END:VEVENT
BEGIN:VEVENT
DTSTART;TZID=Europe/London:20260625T110000
DTEND;TZID=Europe/London:20260701T090000
UID:92326878-CD0E-44F0-82AC-E960FB388661
SUMMARY:Cruise Ship Speaker, Ambition
CREATED:20251120T114250Z
DTSTAMP:20251120T114250Z
URL:https://ipv6.thewhiskyprotagonist.co.uk/component/dpcalendar/event/39?calid=10
LAST-MODIFIED:20251120T114250Z
SEQUENCE:0
X-ACCESS:1
X-HITS:120
X-COLOR:cc3333
X-SHOW-END-TIME:1
END:VEVENT
BEGIN:VEVENT
DTSTART;TZID=Europe/London:20260726T130000
DTEND;TZID=Europe/London:20260802T090000
UID:10C77F34-3679-4373-97C6-715E68A6D0A4
SUMMARY:Cruise Ship Speaker, Majestic Princess
CREATED:20250924T100239Z
DTSTAMP:20250924T100239Z
URL:https://ipv6.thewhiskyprotagonist.co.uk/component/dpcalendar/event/37?calid=10
LAST-MODIFIED:20250924T100242Z
SEQUENCE:3
X-ACCESS:1
X-HITS:152
X-COLOR:cc3333
X-SHOW-END-TIME:1
END:VEVENT
BEGIN:VEVENT
DTSTART;TZID=Europe/London:20260902T130000
DTEND;TZID=Europe/London:20260916T090000
UID:47DDE7D8-7C86-46EF-9501-7054457870E7
SUMMARY:Cruise Ship Speaker, Balmoral
CREATED:20250718T132629Z
DTSTAMP:20250718T132629Z
URL:https://ipv6.thewhiskyprotagonist.co.uk/component/dpcalendar/event/35?calid=10
LAST-MODIFIED:20250718T132629Z
SEQUENCE:0
X-ACCESS:1
X-HITS:18
X-COLOR:cc3333
X-SHOW-END-TIME:1
END:VEVENT
BEGIN:VEVENT
DTSTART;TZID=Europe/London:20260918T130000
DTEND;TZID=Europe/London:20260930T090000
UID:490DFBC7-6413-48D7-94AB-DB004F300323
SUMMARY:Cruise Ship Speaker, Balmoral
CREATED:20250628T125217Z
DTSTAMP:20250628T125217Z
URL:https://ipv6.thewhiskyprotagonist.co.uk/component/dpcalendar/event/33?calid=10
LAST-MODIFIED:20250628T125217Z
SEQUENCE:0
X-ACCESS:1
X-HITS:10
X-COLOR:cc3333
X-SHOW-END-TIME:1
END:VEVENT
BEGIN:VEVENT
DTSTART;TZID=Europe/London:20261008T130000
DTEND;TZID=Europe/London:20261016T090000
UID:4BB47B91-EFAE-42D8-8461-B92722998EB0
SUMMARY:Cruise Ship Speaker, Bolette
CREATED:20250628T125302Z
DTSTAMP:20250628T125302Z
URL:https://ipv6.thewhiskyprotagonist.co.uk/component/dpcalendar/event/34?calid=10
LAST-MODIFIED:20250628T125302Z
SEQUENCE:0
X-ACCESS:1
X-HITS:11
X-COLOR:cc3333
X-SHOW-END-TIME:1
END:VEVENT
BEGIN:VEVENT
DTSTART;TZID=Europe/London:20261111T190000
DTEND;TZID=Europe/London:20261111T210000
UID:91CDAE17-BA5B-406B-89C0-008CA0E3ED4C
SUMMARY:Doncaster Supper Club, Gin: A Bottled History
CREATED:20260114T102641Z
DTSTAMP:20260114T102641Z
URL:https://ipv6.thewhiskyprotagonist.co.uk/component/dpcalendar/event/42?calid=10
LAST-MODIFIED:20260114T102649Z
SEQUENCE:8
X-ACCESS:1
X-HITS:0
X-COLOR:cc3333
X-SHOW-END-TIME:1
END:VEVENT
END:VCALENDAR